BEGIN:VCALENDAR
VERSION:2.0
PRODID:-//Welcome to Crosspoint - ECPv6.15.12.2//NONSGML v1.0//EN
CALSCALE:GREGORIAN
METHOD:PUBLISH
X-WR-CALNAME:Welcome to Crosspoint
X-ORIGINAL-URL:https://www.crosspointrockford.com
X-WR-CALDESC:Events for Welcome to Crosspoint
REFRESH-INTERVAL;VALUE=DURATION:PT1H
X-Robots-Tag:noindex
X-PUBLISHED-TTL:PT1H
BEGIN:VTIMEZONE
TZID:America/Chicago
BEGIN:DAYLIGHT
TZOFFSETFROM:-0600
TZOFFSETTO:-0500
TZNAME:CDT
DTSTART:20250309T080000
END:DAYLIGHT
BEGIN:STANDARD
TZOFFSETFROM:-0500
TZOFFSETTO:-0600
TZNAME:CST
DTSTART:20251102T070000
END:STANDARD
BEGIN:DAYLIGHT
TZOFFSETFROM:-0600
TZOFFSETTO:-0500
TZNAME:CDT
DTSTART:20260308T080000
END:DAYLIGHT
BEGIN:STANDARD
TZOFFSETFROM:-0500
TZOFFSETTO:-0600
TZNAME:CST
DTSTART:20261101T070000
END:STANDARD
BEGIN:DAYLIGHT
TZOFFSETFROM:-0600
TZOFFSETTO:-0500
TZNAME:CDT
DTSTART:20270314T080000
END:DAYLIGHT
BEGIN:STANDARD
TZOFFSETFROM:-0500
TZOFFSETTO:-0600
TZNAME:CST
DTSTART:20271107T070000
END:STANDARD
END:VTIMEZONE
BEGIN:VEVENT
DTSTART;TZID=America/Chicago:20260426T090000
DTEND;TZID=America/Chicago:20260426T100000
DTSTAMP:20260424T202642
CREATED:20251111T194825Z
LAST-MODIFIED:20251111T194825Z
UID:10001854-1777194000-1777197600@www.crosspointrockford.com
SUMMARY:Sunday Morning Prayer
DESCRIPTION:This group meets every Sunday morning at 9:00 in the Crosspoint Prayer Room.   Everyone is welcome!
URL:https://www.crosspointrockford.com/event/sunday-morning-prayer/2026-04-26/
LOCATION:Crosspoint Church\, 3215 East State Street\, Rockford\, IL\, 61108
ATTACH;FMTTYPE=image/png:https://www.crosspointrockford.com/wp-content/uploads/2020/10/Prayer-450x450-1.png
END:VEVENT
BEGIN:VEVENT
DTSTART;TZID=America/Chicago:20260503T090000
DTEND;TZID=America/Chicago:20260503T100000
DTSTAMP:20260424T202642
CREATED:20251111T194825Z
LAST-MODIFIED:20251111T194825Z
UID:10001855-1777798800-1777802400@www.crosspointrockford.com
SUMMARY:Sunday Morning Prayer
DESCRIPTION:This group meets every Sunday morning at 9:00 in the Crosspoint Prayer Room.   Everyone is welcome!
URL:https://www.crosspointrockford.com/event/sunday-morning-prayer/2026-05-03/
LOCATION:Crosspoint Church\, 3215 East State Street\, Rockford\, IL\, 61108
ATTACH;FMTTYPE=image/png:https://www.crosspointrockford.com/wp-content/uploads/2020/10/Prayer-450x450-1.png
END:VEVENT
BEGIN:VEVENT
DTSTART;TZID=America/Chicago:20260510T090000
DTEND;TZID=America/Chicago:20260510T100000
DTSTAMP:20260424T202642
CREATED:20251111T194825Z
LAST-MODIFIED:20251111T194825Z
UID:10001856-1778403600-1778407200@www.crosspointrockford.com
SUMMARY:Sunday Morning Prayer
DESCRIPTION:This group meets every Sunday morning at 9:00 in the Crosspoint Prayer Room.   Everyone is welcome!
URL:https://www.crosspointrockford.com/event/sunday-morning-prayer/2026-05-10/
LOCATION:Crosspoint Church\, 3215 East State Street\, Rockford\, IL\, 61108
ATTACH;FMTTYPE=image/png:https://www.crosspointrockford.com/wp-content/uploads/2020/10/Prayer-450x450-1.png
END:VEVENT
BEGIN:VEVENT
DTSTART;TZID=America/Chicago:20260517T090000
DTEND;TZID=America/Chicago:20260517T100000
DTSTAMP:20260424T202642
CREATED:20251111T194825Z
LAST-MODIFIED:20251111T194825Z
UID:10001857-1779008400-1779012000@www.crosspointrockford.com
SUMMARY:Sunday Morning Prayer
DESCRIPTION:This group meets every Sunday morning at 9:00 in the Crosspoint Prayer Room.   Everyone is welcome!
URL:https://www.crosspointrockford.com/event/sunday-morning-prayer/2026-05-17/
LOCATION:Crosspoint Church\, 3215 East State Street\, Rockford\, IL\, 61108
ATTACH;FMTTYPE=image/png:https://www.crosspointrockford.com/wp-content/uploads/2020/10/Prayer-450x450-1.png
END:VEVENT
BEGIN:VEVENT
DTSTART;TZID=America/Chicago:20260524T090000
DTEND;TZID=America/Chicago:20260524T100000
DTSTAMP:20260424T202642
CREATED:20251111T194825Z
LAST-MODIFIED:20251111T194825Z
UID:10001858-1779613200-1779616800@www.crosspointrockford.com
SUMMARY:Sunday Morning Prayer
DESCRIPTION:This group meets every Sunday morning at 9:00 in the Crosspoint Prayer Room.   Everyone is welcome!
URL:https://www.crosspointrockford.com/event/sunday-morning-prayer/2026-05-24/
LOCATION:Crosspoint Church\, 3215 East State Street\, Rockford\, IL\, 61108
ATTACH;FMTTYPE=image/png:https://www.crosspointrockford.com/wp-content/uploads/2020/10/Prayer-450x450-1.png
END:VEVENT
BEGIN:VEVENT
DTSTART;TZID=America/Chicago:20260531T090000
DTEND;TZID=America/Chicago:20260531T100000
DTSTAMP:20260424T202642
CREATED:20251111T194825Z
LAST-MODIFIED:20251111T194825Z
UID:10001859-1780218000-1780221600@www.crosspointrockford.com
SUMMARY:Sunday Morning Prayer
DESCRIPTION:This group meets every Sunday morning at 9:00 in the Crosspoint Prayer Room.   Everyone is welcome!
URL:https://www.crosspointrockford.com/event/sunday-morning-prayer/2026-05-31/
LOCATION:Crosspoint Church\, 3215 East State Street\, Rockford\, IL\, 61108
ATTACH;FMTTYPE=image/png:https://www.crosspointrockford.com/wp-content/uploads/2020/10/Prayer-450x450-1.png
END:VEVENT
BEGIN:VEVENT
DTSTART;TZID=America/Chicago:20260607T090000
DTEND;TZID=America/Chicago:20260607T100000
DTSTAMP:20260424T202642
CREATED:20251111T194825Z
LAST-MODIFIED:20251111T194825Z
UID:10001860-1780822800-1780826400@www.crosspointrockford.com
SUMMARY:Sunday Morning Prayer
DESCRIPTION:This group meets every Sunday morning at 9:00 in the Crosspoint Prayer Room.   Everyone is welcome!
URL:https://www.crosspointrockford.com/event/sunday-morning-prayer/2026-06-07/
LOCATION:Crosspoint Church\, 3215 East State Street\, Rockford\, IL\, 61108
ATTACH;FMTTYPE=image/png:https://www.crosspointrockford.com/wp-content/uploads/2020/10/Prayer-450x450-1.png
END:VEVENT
BEGIN:VEVENT
DTSTART;TZID=America/Chicago:20260614T090000
DTEND;TZID=America/Chicago:20260614T100000
DTSTAMP:20260424T202642
CREATED:20251111T194825Z
LAST-MODIFIED:20251111T194825Z
UID:10001861-1781427600-1781431200@www.crosspointrockford.com
SUMMARY:Sunday Morning Prayer
DESCRIPTION:This group meets every Sunday morning at 9:00 in the Crosspoint Prayer Room.   Everyone is welcome!
URL:https://www.crosspointrockford.com/event/sunday-morning-prayer/2026-06-14/
LOCATION:Crosspoint Church\, 3215 East State Street\, Rockford\, IL\, 61108
ATTACH;FMTTYPE=image/png:https://www.crosspointrockford.com/wp-content/uploads/2020/10/Prayer-450x450-1.png
END:VEVENT
BEGIN:VEVENT
DTSTART;TZID=America/Chicago:20260621T090000
DTEND;TZID=America/Chicago:20260621T100000
DTSTAMP:20260424T202642
CREATED:20251111T194825Z
LAST-MODIFIED:20251111T194825Z
UID:10001862-1782032400-1782036000@www.crosspointrockford.com
SUMMARY:Sunday Morning Prayer
DESCRIPTION:This group meets every Sunday morning at 9:00 in the Crosspoint Prayer Room.   Everyone is welcome!
URL:https://www.crosspointrockford.com/event/sunday-morning-prayer/2026-06-21/
LOCATION:Crosspoint Church\, 3215 East State Street\, Rockford\, IL\, 61108
ATTACH;FMTTYPE=image/png:https://www.crosspointrockford.com/wp-content/uploads/2020/10/Prayer-450x450-1.png
END:VEVENT
BEGIN:VEVENT
DTSTART;TZID=America/Chicago:20260628T090000
DTEND;TZID=America/Chicago:20260628T100000
DTSTAMP:20260424T202642
CREATED:20251111T194825Z
LAST-MODIFIED:20251111T194825Z
UID:10001863-1782637200-1782640800@www.crosspointrockford.com
SUMMARY:Sunday Morning Prayer
DESCRIPTION:This group meets every Sunday morning at 9:00 in the Crosspoint Prayer Room.   Everyone is welcome!
URL:https://www.crosspointrockford.com/event/sunday-morning-prayer/2026-06-28/
LOCATION:Crosspoint Church\, 3215 East State Street\, Rockford\, IL\, 61108
ATTACH;FMTTYPE=image/png:https://www.crosspointrockford.com/wp-content/uploads/2020/10/Prayer-450x450-1.png
END:VEVENT
BEGIN:VEVENT
DTSTART;TZID=America/Chicago:20260705T090000
DTEND;TZID=America/Chicago:20260705T100000
DTSTAMP:20260424T202642
CREATED:20251111T194825Z
LAST-MODIFIED:20251111T194825Z
UID:10001864-1783242000-1783245600@www.crosspointrockford.com
SUMMARY:Sunday Morning Prayer
DESCRIPTION:This group meets every Sunday morning at 9:00 in the Crosspoint Prayer Room.   Everyone is welcome!
URL:https://www.crosspointrockford.com/event/sunday-morning-prayer/2026-07-05/
LOCATION:Crosspoint Church\, 3215 East State Street\, Rockford\, IL\, 61108
ATTACH;FMTTYPE=image/png:https://www.crosspointrockford.com/wp-content/uploads/2020/10/Prayer-450x450-1.png
END:VEVENT
BEGIN:VEVENT
DTSTART;TZID=America/Chicago:20260712T090000
DTEND;TZID=America/Chicago:20260712T100000
DTSTAMP:20260424T202642
CREATED:20251111T194825Z
LAST-MODIFIED:20251111T194825Z
UID:10001865-1783846800-1783850400@www.crosspointrockford.com
SUMMARY:Sunday Morning Prayer
DESCRIPTION:This group meets every Sunday morning at 9:00 in the Crosspoint Prayer Room.   Everyone is welcome!
URL:https://www.crosspointrockford.com/event/sunday-morning-prayer/2026-07-12/
LOCATION:Crosspoint Church\, 3215 East State Street\, Rockford\, IL\, 61108
ATTACH;FMTTYPE=image/png:https://www.crosspointrockford.com/wp-content/uploads/2020/10/Prayer-450x450-1.png
END:VEVENT
BEGIN:VEVENT
DTSTART;TZID=America/Chicago:20260719T090000
DTEND;TZID=America/Chicago:20260719T100000
DTSTAMP:20260424T202642
CREATED:20251111T194825Z
LAST-MODIFIED:20251111T194825Z
UID:10001866-1784451600-1784455200@www.crosspointrockford.com
SUMMARY:Sunday Morning Prayer
DESCRIPTION:This group meets every Sunday morning at 9:00 in the Crosspoint Prayer Room.   Everyone is welcome!
URL:https://www.crosspointrockford.com/event/sunday-morning-prayer/2026-07-19/
LOCATION:Crosspoint Church\, 3215 East State Street\, Rockford\, IL\, 61108
ATTACH;FMTTYPE=image/png:https://www.crosspointrockford.com/wp-content/uploads/2020/10/Prayer-450x450-1.png
END:VEVENT
BEGIN:VEVENT
DTSTART;TZID=America/Chicago:20260726T090000
DTEND;TZID=America/Chicago:20260726T100000
DTSTAMP:20260424T202642
CREATED:20251111T194825Z
LAST-MODIFIED:20251111T194825Z
UID:10001867-1785056400-1785060000@www.crosspointrockford.com
SUMMARY:Sunday Morning Prayer
DESCRIPTION:This group meets every Sunday morning at 9:00 in the Crosspoint Prayer Room.   Everyone is welcome!
URL:https://www.crosspointrockford.com/event/sunday-morning-prayer/2026-07-26/
LOCATION:Crosspoint Church\, 3215 East State Street\, Rockford\, IL\, 61108
ATTACH;FMTTYPE=image/png:https://www.crosspointrockford.com/wp-content/uploads/2020/10/Prayer-450x450-1.png
END:VEVENT
BEGIN:VEVENT
DTSTART;TZID=America/Chicago:20260802T090000
DTEND;TZID=America/Chicago:20260802T100000
DTSTAMP:20260424T202642
CREATED:20251111T194825Z
LAST-MODIFIED:20251111T194825Z
UID:10001868-1785661200-1785664800@www.crosspointrockford.com
SUMMARY:Sunday Morning Prayer
DESCRIPTION:This group meets every Sunday morning at 9:00 in the Crosspoint Prayer Room.   Everyone is welcome!
URL:https://www.crosspointrockford.com/event/sunday-morning-prayer/2026-08-02/
LOCATION:Crosspoint Church\, 3215 East State Street\, Rockford\, IL\, 61108
ATTACH;FMTTYPE=image/png:https://www.crosspointrockford.com/wp-content/uploads/2020/10/Prayer-450x450-1.png
END:VEVENT
BEGIN:VEVENT
DTSTART;TZID=America/Chicago:20260809T090000
DTEND;TZID=America/Chicago:20260809T100000
DTSTAMP:20260424T202642
CREATED:20251111T194825Z
LAST-MODIFIED:20251111T194825Z
UID:10001869-1786266000-1786269600@www.crosspointrockford.com
SUMMARY:Sunday Morning Prayer
DESCRIPTION:This group meets every Sunday morning at 9:00 in the Crosspoint Prayer Room.   Everyone is welcome!
URL:https://www.crosspointrockford.com/event/sunday-morning-prayer/2026-08-09/
LOCATION:Crosspoint Church\, 3215 East State Street\, Rockford\, IL\, 61108
ATTACH;FMTTYPE=image/png:https://www.crosspointrockford.com/wp-content/uploads/2020/10/Prayer-450x450-1.png
END:VEVENT
BEGIN:VEVENT
DTSTART;TZID=America/Chicago:20260816T090000
DTEND;TZID=America/Chicago:20260816T100000
DTSTAMP:20260424T202642
CREATED:20251111T194825Z
LAST-MODIFIED:20251111T194825Z
UID:10001870-1786870800-1786874400@www.crosspointrockford.com
SUMMARY:Sunday Morning Prayer
DESCRIPTION:This group meets every Sunday morning at 9:00 in the Crosspoint Prayer Room.   Everyone is welcome!
URL:https://www.crosspointrockford.com/event/sunday-morning-prayer/2026-08-16/
LOCATION:Crosspoint Church\, 3215 East State Street\, Rockford\, IL\, 61108
ATTACH;FMTTYPE=image/png:https://www.crosspointrockford.com/wp-content/uploads/2020/10/Prayer-450x450-1.png
END:VEVENT
BEGIN:VEVENT
DTSTART;TZID=America/Chicago:20260823T090000
DTEND;TZID=America/Chicago:20260823T100000
DTSTAMP:20260424T202642
CREATED:20251111T194825Z
LAST-MODIFIED:20251111T194825Z
UID:10001871-1787475600-1787479200@www.crosspointrockford.com
SUMMARY:Sunday Morning Prayer
DESCRIPTION:This group meets every Sunday morning at 9:00 in the Crosspoint Prayer Room.   Everyone is welcome!
URL:https://www.crosspointrockford.com/event/sunday-morning-prayer/2026-08-23/
LOCATION:Crosspoint Church\, 3215 East State Street\, Rockford\, IL\, 61108
ATTACH;FMTTYPE=image/png:https://www.crosspointrockford.com/wp-content/uploads/2020/10/Prayer-450x450-1.png
END:VEVENT
BEGIN:VEVENT
DTSTART;TZID=America/Chicago:20260830T090000
DTEND;TZID=America/Chicago:20260830T100000
DTSTAMP:20260424T202642
CREATED:20251111T194825Z
LAST-MODIFIED:20251111T194825Z
UID:10001872-1788080400-1788084000@www.crosspointrockford.com
SUMMARY:Sunday Morning Prayer
DESCRIPTION:This group meets every Sunday morning at 9:00 in the Crosspoint Prayer Room.   Everyone is welcome!
URL:https://www.crosspointrockford.com/event/sunday-morning-prayer/2026-08-30/
LOCATION:Crosspoint Church\, 3215 East State Street\, Rockford\, IL\, 61108
ATTACH;FMTTYPE=image/png:https://www.crosspointrockford.com/wp-content/uploads/2020/10/Prayer-450x450-1.png
END:VEVENT
BEGIN:VEVENT
DTSTART;TZID=America/Chicago:20260906T090000
DTEND;TZID=America/Chicago:20260906T100000
DTSTAMP:20260424T202642
CREATED:20251111T194825Z
LAST-MODIFIED:20251111T194825Z
UID:10001873-1788685200-1788688800@www.crosspointrockford.com
SUMMARY:Sunday Morning Prayer
DESCRIPTION:This group meets every Sunday morning at 9:00 in the Crosspoint Prayer Room.   Everyone is welcome!
URL:https://www.crosspointrockford.com/event/sunday-morning-prayer/2026-09-06/
LOCATION:Crosspoint Church\, 3215 East State Street\, Rockford\, IL\, 61108
ATTACH;FMTTYPE=image/png:https://www.crosspointrockford.com/wp-content/uploads/2020/10/Prayer-450x450-1.png
END:VEVENT
BEGIN:VEVENT
DTSTART;TZID=America/Chicago:20260913T090000
DTEND;TZID=America/Chicago:20260913T100000
DTSTAMP:20260424T202642
CREATED:20251111T194825Z
LAST-MODIFIED:20251111T194825Z
UID:10001874-1789290000-1789293600@www.crosspointrockford.com
SUMMARY:Sunday Morning Prayer
DESCRIPTION:This group meets every Sunday morning at 9:00 in the Crosspoint Prayer Room.   Everyone is welcome!
URL:https://www.crosspointrockford.com/event/sunday-morning-prayer/2026-09-13/
LOCATION:Crosspoint Church\, 3215 East State Street\, Rockford\, IL\, 61108
ATTACH;FMTTYPE=image/png:https://www.crosspointrockford.com/wp-content/uploads/2020/10/Prayer-450x450-1.png
END:VEVENT
BEGIN:VEVENT
DTSTART;TZID=America/Chicago:20260920T090000
DTEND;TZID=America/Chicago:20260920T100000
DTSTAMP:20260424T202642
CREATED:20251111T194825Z
LAST-MODIFIED:20251111T194825Z
UID:10001875-1789894800-1789898400@www.crosspointrockford.com
SUMMARY:Sunday Morning Prayer
DESCRIPTION:This group meets every Sunday morning at 9:00 in the Crosspoint Prayer Room.   Everyone is welcome!
URL:https://www.crosspointrockford.com/event/sunday-morning-prayer/2026-09-20/
LOCATION:Crosspoint Church\, 3215 East State Street\, Rockford\, IL\, 61108
ATTACH;FMTTYPE=image/png:https://www.crosspointrockford.com/wp-content/uploads/2020/10/Prayer-450x450-1.png
END:VEVENT
BEGIN:VEVENT
DTSTART;TZID=America/Chicago:20260927T090000
DTEND;TZID=America/Chicago:20260927T100000
DTSTAMP:20260424T202642
CREATED:20251111T194825Z
LAST-MODIFIED:20251111T194825Z
UID:10001876-1790499600-1790503200@www.crosspointrockford.com
SUMMARY:Sunday Morning Prayer
DESCRIPTION:This group meets every Sunday morning at 9:00 in the Crosspoint Prayer Room.   Everyone is welcome!
URL:https://www.crosspointrockford.com/event/sunday-morning-prayer/2026-09-27/
LOCATION:Crosspoint Church\, 3215 East State Street\, Rockford\, IL\, 61108
ATTACH;FMTTYPE=image/png:https://www.crosspointrockford.com/wp-content/uploads/2020/10/Prayer-450x450-1.png
END:VEVENT
BEGIN:VEVENT
DTSTART;TZID=America/Chicago:20261004T090000
DTEND;TZID=America/Chicago:20261004T100000
DTSTAMP:20260424T202642
CREATED:20251111T194825Z
LAST-MODIFIED:20251111T194825Z
UID:10001877-1791104400-1791108000@www.crosspointrockford.com
SUMMARY:Sunday Morning Prayer
DESCRIPTION:This group meets every Sunday morning at 9:00 in the Crosspoint Prayer Room.   Everyone is welcome!
URL:https://www.crosspointrockford.com/event/sunday-morning-prayer/2026-10-04/
LOCATION:Crosspoint Church\, 3215 East State Street\, Rockford\, IL\, 61108
ATTACH;FMTTYPE=image/png:https://www.crosspointrockford.com/wp-content/uploads/2020/10/Prayer-450x450-1.png
END:VEVENT
BEGIN:VEVENT
DTSTART;TZID=America/Chicago:20261011T090000
DTEND;TZID=America/Chicago:20261011T100000
DTSTAMP:20260424T202642
CREATED:20251111T194825Z
LAST-MODIFIED:20251111T194825Z
UID:10001878-1791709200-1791712800@www.crosspointrockford.com
SUMMARY:Sunday Morning Prayer
DESCRIPTION:This group meets every Sunday morning at 9:00 in the Crosspoint Prayer Room.   Everyone is welcome!
URL:https://www.crosspointrockford.com/event/sunday-morning-prayer/2026-10-11/
LOCATION:Crosspoint Church\, 3215 East State Street\, Rockford\, IL\, 61108
ATTACH;FMTTYPE=image/png:https://www.crosspointrockford.com/wp-content/uploads/2020/10/Prayer-450x450-1.png
END:VEVENT
BEGIN:VEVENT
DTSTART;TZID=America/Chicago:20261018T090000
DTEND;TZID=America/Chicago:20261018T100000
DTSTAMP:20260424T202642
CREATED:20251111T194825Z
LAST-MODIFIED:20251111T194825Z
UID:10001879-1792314000-1792317600@www.crosspointrockford.com
SUMMARY:Sunday Morning Prayer
DESCRIPTION:This group meets every Sunday morning at 9:00 in the Crosspoint Prayer Room.   Everyone is welcome!
URL:https://www.crosspointrockford.com/event/sunday-morning-prayer/2026-10-18/
LOCATION:Crosspoint Church\, 3215 East State Street\, Rockford\, IL\, 61108
ATTACH;FMTTYPE=image/png:https://www.crosspointrockford.com/wp-content/uploads/2020/10/Prayer-450x450-1.png
END:VEVENT
BEGIN:VEVENT
DTSTART;TZID=America/Chicago:20261025T090000
DTEND;TZID=America/Chicago:20261025T100000
DTSTAMP:20260424T202642
CREATED:20251111T194825Z
LAST-MODIFIED:20251111T194825Z
UID:10001880-1792918800-1792922400@www.crosspointrockford.com
SUMMARY:Sunday Morning Prayer
DESCRIPTION:This group meets every Sunday morning at 9:00 in the Crosspoint Prayer Room.   Everyone is welcome!
URL:https://www.crosspointrockford.com/event/sunday-morning-prayer/2026-10-25/
LOCATION:Crosspoint Church\, 3215 East State Street\, Rockford\, IL\, 61108
ATTACH;FMTTYPE=image/png:https://www.crosspointrockford.com/wp-content/uploads/2020/10/Prayer-450x450-1.png
END:VEVENT
BEGIN:VEVENT
DTSTART;TZID=America/Chicago:20261101T090000
DTEND;TZID=America/Chicago:20261101T100000
DTSTAMP:20260424T202642
CREATED:20251111T194825Z
LAST-MODIFIED:20251111T194825Z
UID:10001881-1793523600-1793527200@www.crosspointrockford.com
SUMMARY:Sunday Morning Prayer
DESCRIPTION:This group meets every Sunday morning at 9:00 in the Crosspoint Prayer Room.   Everyone is welcome!
URL:https://www.crosspointrockford.com/event/sunday-morning-prayer/2026-11-01/
LOCATION:Crosspoint Church\, 3215 East State Street\, Rockford\, IL\, 61108
ATTACH;FMTTYPE=image/png:https://www.crosspointrockford.com/wp-content/uploads/2020/10/Prayer-450x450-1.png
END:VEVENT
BEGIN:VEVENT
DTSTART;TZID=America/Chicago:20261108T090000
DTEND;TZID=America/Chicago:20261108T100000
DTSTAMP:20260424T202642
CREATED:20251111T194825Z
LAST-MODIFIED:20251111T194825Z
UID:10001882-1794128400-1794132000@www.crosspointrockford.com
SUMMARY:Sunday Morning Prayer
DESCRIPTION:This group meets every Sunday morning at 9:00 in the Crosspoint Prayer Room.   Everyone is welcome!
URL:https://www.crosspointrockford.com/event/sunday-morning-prayer/2026-11-08/
LOCATION:Crosspoint Church\, 3215 East State Street\, Rockford\, IL\, 61108
ATTACH;FMTTYPE=image/png:https://www.crosspointrockford.com/wp-content/uploads/2020/10/Prayer-450x450-1.png
END:VEVENT
BEGIN:VEVENT
DTSTART;TZID=America/Chicago:20261115T090000
DTEND;TZID=America/Chicago:20261115T100000
DTSTAMP:20260424T202642
CREATED:20251111T194825Z
LAST-MODIFIED:20251111T194825Z
UID:10001883-1794733200-1794736800@www.crosspointrockford.com
SUMMARY:Sunday Morning Prayer
DESCRIPTION:This group meets every Sunday morning at 9:00 in the Crosspoint Prayer Room.   Everyone is welcome!
URL:https://www.crosspointrockford.com/event/sunday-morning-prayer/2026-11-15/
LOCATION:Crosspoint Church\, 3215 East State Street\, Rockford\, IL\, 61108
ATTACH;FMTTYPE=image/png:https://www.crosspointrockford.com/wp-content/uploads/2020/10/Prayer-450x450-1.png
END:VEVENT
END:VCALENDAR