BEGIN:VCALENDAR
VERSION:2.0
PRODID:-//Welcome to Crosspoint - ECPv6.15.12.2//NONSGML v1.0//EN
CALSCALE:GREGORIAN
METHOD:PUBLISH
X-ORIGINAL-URL:https://www.crosspointrockford.com
X-WR-CALDESC:Events for Welcome to Crosspoint
REFRESH-INTERVAL;VALUE=DURATION:PT1H
X-Robots-Tag:noindex
X-PUBLISHED-TTL:PT1H
BEGIN:VTIMEZONE
TZID:America/Chicago
BEGIN:DAYLIGHT
TZOFFSETFROM:-0600
TZOFFSETTO:-0500
TZNAME:CDT
DTSTART:20240310T080000
END:DAYLIGHT
BEGIN:STANDARD
TZOFFSETFROM:-0500
TZOFFSETTO:-0600
TZNAME:CST
DTSTART:20241103T070000
END:STANDARD
BEGIN:DAYLIGHT
TZOFFSETFROM:-0600
TZOFFSETTO:-0500
TZNAME:CDT
DTSTART:20250309T080000
END:DAYLIGHT
BEGIN:STANDARD
TZOFFSETFROM:-0500
TZOFFSETTO:-0600
TZNAME:CST
DTSTART:20251102T070000
END:STANDARD
BEGIN:DAYLIGHT
TZOFFSETFROM:-0600
TZOFFSETTO:-0500
TZNAME:CDT
DTSTART:20260308T080000
END:DAYLIGHT
BEGIN:STANDARD
TZOFFSETFROM:-0500
TZOFFSETTO:-0600
TZNAME:CST
DTSTART:20261101T070000
END:STANDARD
END:VTIMEZONE
BEGIN:VEVENT
DTSTART;TZID=America/Chicago:20251209T183000
DTEND;TZID=America/Chicago:20251209T203000
DTSTAMP:20260420T143300
CREATED:20251118T161442Z
LAST-MODIFIED:20251118T161442Z
UID:10004738-1765305000-1765312200@www.crosspointrockford.com
SUMMARY:GriefShare - Surviving the Holidays
DESCRIPTION:Grief is harder around the holidays\, know how to deal with the challenges. \nWhen you’re asking questions about your grief\, a quick\, cliché response is not what you need. At GriefShare\, you’ll meet people who will listen\, without judgment\, and share helpful insights and advice. \nJoan Burden will be hosting a GriefShare\, Surviving the Holidays\, 2-hour event on December 9th from 6:30-8:30pm in the Lift Room. Contact Joan for more details.
URL:https://www.crosspointrockford.com/event/griefshare-surviving-the-holidays/
ATTACH;FMTTYPE=image/png:https://www.crosspointrockford.com/wp-content/uploads/2025/11/December-9th-630-8pm-1.png
END:VEVENT
END:VCALENDAR